BEGIN:VCALENDAR
VERSION:2.0
PRODID:-//BLAU - Jungbusch - Mannheim - ECPv6.15.11//NONSGML v1.0//EN
CALSCALE:GREGORIAN
METHOD:PUBLISH
X-WR-CALNAME:BLAU - Jungbusch - Mannheim
X-ORIGINAL-URL:https://blau-jungbusch.rocks
X-WR-CALDESC:Veranstaltungen für BLAU - Jungbusch - Mannheim
REFRESH-INTERVAL;VALUE=DURATION:PT1H
X-Robots-Tag:noindex
X-PUBLISHED-TTL:PT1H
BEGIN:VTIMEZONE
TZID:Europe/Berlin
BEGIN:DAYLIGHT
TZOFFSETFROM:+0100
TZOFFSETTO:+0200
TZNAME:CEST
DTSTART:20250330T010000
END:DAYLIGHT
BEGIN:STANDARD
TZOFFSETFROM:+0200
TZOFFSETTO:+0100
TZNAME:CET
DTSTART:20251026T010000
END:STANDARD
BEGIN:DAYLIGHT
TZOFFSETFROM:+0100
TZOFFSETTO:+0200
TZNAME:CEST
DTSTART:20260329T010000
END:DAYLIGHT
BEGIN:STANDARD
TZOFFSETFROM:+0200
TZOFFSETTO:+0100
TZNAME:CET
DTSTART:20261025T010000
END:STANDARD
BEGIN:DAYLIGHT
TZOFFSETFROM:+0100
TZOFFSETTO:+0200
TZNAME:CEST
DTSTART:20270328T010000
END:DAYLIGHT
BEGIN:STANDARD
TZOFFSETFROM:+0200
TZOFFSETTO:+0100
TZNAME:CET
DTSTART:20271031T010000
END:STANDARD
END:VTIMEZONE
BEGIN:VEVENT
DTSTART;TZID=Europe/Berlin:20260424T200000
DTEND;TZID=Europe/Berlin:20260424T200000
DTSTAMP:20260419T165946
CREATED:20260408T092314Z
LAST-MODIFIED:20260408T092314Z
UID:10000108-1777060800-1777060800@blau-jungbusch.rocks
SUMMARY:Boogaloo Klub – Funky Soul & Swinging Sixties
DESCRIPTION:Treibende Beats\, fauchende Orgeln\, funky Gitarren und Gesangslinien\, die an die Seele rühren – das ist der Boogaloo Klub. Die besten Tracks aus den Untiefen der 50er\, 60er und 70er Jahre. \nMit der unglaublichen Mischung aus Deep Funk\, Rare Soul\, Latin Boogaloo\, Freaky Beat\, Psychedelic Rock\, Dirty Rock’n’Roll\, Surf & Hammond Sounds\, Wild Exotica\, Afro Breaks & Maximum Rhythm’n’Blues bringen wir nicht nur Baströckchen und Minikleidchen zum Schwingen. \nEintritt frei\, los geht’s ab etwa 21:00 Uhr
URL:https://blau-jungbusch.rocks/event/boogaloo-klub-funky-soul-swinging-sixties-7
LOCATION:BLAU\, Jungbuschstr. 14\, Mannheim\, 68159
CATEGORIES:50s,60s,70s,Funky Soul,Swinging
ATTACH;FMTTYPE=image/png:https://blau-jungbusch.rocks/wp-content/uploads/2025/06/boogaloo-klub.png
END:VEVENT
BEGIN:VEVENT
DTSTART;TZID=Europe/Berlin:20260425T200000
DTEND;TZID=Europe/Berlin:20260425T200000
DTSTAMP:20260419T165946
CREATED:20260408T092732Z
LAST-MODIFIED:20260408T092827Z
UID:10000109-1777147200-1777147200@blau-jungbusch.rocks
SUMMARY:Detlef (K) - Punk live!
DESCRIPTION:Detlef ist der legitime Nachfolger und militante Arm von Supernichts! \nDetlef Meurer\, Detlef Löber und Detlef Damm haben es wieder getan – gut gelaunter Hass in Reinform\, konserviert in 19 Songs. Mit dem dritten Album Human Resources geben die Kölner Punkrock-Sommeliers dem Volk zum dritten Mal was es braucht. Dabei hasst Detlef fröhlich am Puls der Zeit\, mit Songs über die scheinheilige Glitzer-Social-Media-Welt\, Junggesellenabschiede oderAirbnb. Es werden Tristesse gefeiert und selbstironische Oden an den Rausch geboten. Oder der Frage nachgegangen\, was denn männlich ist. \n\nhttps://bakraufarfitarecords.bandcamp.com/album/detlef-human-resources\nhttps://www.ox-fanzine.de/ox-praesentiert-detlef\n\nNicht verpassen! \nShow ca. ab 21 Uhr\nKein VVK\, Eintritt gegen Spende. Wir empfehlen 20€ \nDanach DJ Aftershow
URL:https://blau-jungbusch.rocks/event/detlef-k-punk-live
LOCATION:BLAU\, Jungbuschstr. 14\, Mannheim\, 68159
CATEGORIES:Punk,Punkrock
ATTACH;FMTTYPE=image/jpeg:https://blau-jungbusch.rocks/wp-content/uploads/2026/04/detlef.jpg
END:VEVENT
BEGIN:VEVENT
DTSTART;TZID=Europe/Berlin:20260430T200000
DTEND;TZID=Europe/Berlin:20260430T200000
DTSTAMP:20260419T165946
CREATED:20260408T092953Z
LAST-MODIFIED:20260408T092953Z
UID:10000110-1777579200-1777579200@blau-jungbusch.rocks
SUMMARY:Ste-Je-Ro - Wild 60ies Garage Party!
DESCRIPTION:Wild\, fuzzy Sixties stuff und noch mehr Knaller! \nDJs ab ca. 21:00 Uhr \nEintritt frei!
URL:https://blau-jungbusch.rocks/event/ste-je-ro-wild-60ies-garage-party-2
LOCATION:BLAU\, Jungbuschstr. 14\, Mannheim\, 68159
CATEGORIES:60s,Garage Punk,garage rock
ATTACH;FMTTYPE=image/jpeg:https://blau-jungbusch.rocks/wp-content/uploads/2026/02/ste-re-jo.jpg
END:VEVENT
END:VCALENDAR