BEGIN:VCALENDAR
VERSION:2.0
PRODID:-//BLAU - Jungbusch - Mannheim - ECPv6.15.11//NONSGML v1.0//EN
CALSCALE:GREGORIAN
METHOD:PUBLISH
X-WR-CALNAME:BLAU - Jungbusch - Mannheim
X-ORIGINAL-URL:https://blau-jungbusch.rocks
X-WR-CALDESC:Veranstaltungen für BLAU - Jungbusch - Mannheim
REFRESH-INTERVAL;VALUE=DURATION:PT1H
X-Robots-Tag:noindex
X-PUBLISHED-TTL:PT1H
BEGIN:VTIMEZONE
TZID:Europe/Berlin
BEGIN:DAYLIGHT
TZOFFSETFROM:+0100
TZOFFSETTO:+0200
TZNAME:CEST
DTSTART:20250330T010000
END:DAYLIGHT
BEGIN:STANDARD
TZOFFSETFROM:+0200
TZOFFSETTO:+0100
TZNAME:CET
DTSTART:20251026T010000
END:STANDARD
BEGIN:DAYLIGHT
TZOFFSETFROM:+0100
TZOFFSETTO:+0200
TZNAME:CEST
DTSTART:20260329T010000
END:DAYLIGHT
BEGIN:STANDARD
TZOFFSETFROM:+0200
TZOFFSETTO:+0100
TZNAME:CET
DTSTART:20261025T010000
END:STANDARD
BEGIN:DAYLIGHT
TZOFFSETFROM:+0100
TZOFFSETTO:+0200
TZNAME:CEST
DTSTART:20270328T010000
END:DAYLIGHT
BEGIN:STANDARD
TZOFFSETFROM:+0200
TZOFFSETTO:+0100
TZNAME:CET
DTSTART:20271031T010000
END:STANDARD
END:VTIMEZONE
BEGIN:VEVENT
DTSTART;TZID=Europe/Berlin:20260604T190000
DTEND;TZID=Europe/Berlin:20260604T190000
DTSTAMP:20260419T204420
CREATED:20260410T125747Z
LAST-MODIFIED:20260410T125747Z
UID:10000124-1780599600-1780599600@blau-jungbusch.rocks
SUMMARY:The Shamcocks - Irish Punk'n'Roll live!
DESCRIPTION:Zwei Genies des modernen Punk’a’Billy haben sich zusammengetan\, um das Genre mit irischem Folk-Punk zu kreuzen. Der legendäre Philip Doyle (ex Klingonz\, ex Guitar-Slingers) und der virtuose Sébastien Muller (Drekhund\, Zombie Jamboree) laden zum wilden Ringelpiez! \nhttps://www.facebook.com/share/1GaqPmrm9A/ \nKein VVK\, Eintritt gegen Spende. Wir empfehlen 15-20€ \nAftershow-Party\nMit DJ SKAOT\nSKA-PUNK
URL:https://blau-jungbusch.rocks/event/the-shamcocks-irish-punknroll-live
LOCATION:BLAU\, Jungbuschstr. 14\, Mannheim\, 68159
CATEGORIES:Hillbilly,Punk,Rockabilly
ATTACH;FMTTYPE=image/jpeg:https://blau-jungbusch.rocks/wp-content/uploads/2026/04/shamcocks.jpg
END:VEVENT
BEGIN:VEVENT
DTSTART;TZID=Europe/Berlin:20260619T200000
DTEND;TZID=Europe/Berlin:20260619T200000
DTSTAMP:20260419T204420
CREATED:20260410T130251Z
LAST-MODIFIED:20260410T130251Z
UID:10000125-1781899200-1781899200@blau-jungbusch.rocks
SUMMARY:T.Y. (US) - Detroit Garage Punk live! + DJ Affendaddy
DESCRIPTION:Die aus Detroit stammende Band TY (ausgesprochen „Tee Why“) hat Drums\, die klingen wie die Kopfstöße des grünen Wikingers aus dem Sega Game Klassiker „Golden Axe II“. Der Leadsänger grunzt wie der Wikinger aus Golden Axe II\, wenn er was auf die Zwölf bekommt. Und wenn man genau hinhört\, klingt die Gitarre ein wenig wie der Spezialangriff des grünen\, bärtigen Kriegers. \nDas coole\, rythmisch treibende Garage-Punk-Geklöppel wird sicherlich sämtlichen Fans von Golden Axe II gefallen\, aber sicher auch denen\, die von diesem Beat-em-up-Klassiker noch nie gehört haben. \nHenry Rollins meint: \n„… eine Band\, über die ich nicht viel weiß\, weil ich sie gerade erst entdeckt habe. Sie kommen aus Detroit\, ähm … sie heißen ‚TY‘ und ich glaube\, das steht für ‚thank you‘?“ \nKein VVK\, Eintritt gegen Spende. Wir empfehlen 20€ \nAftershow\nmit DJ Affendaddy \nfinest bangers that make you wiggle it shamelessly\nEintritt frei!
URL:https://blau-jungbusch.rocks/event/t-y-us-detroit-garage-punk-live-dj-affendaddy
LOCATION:BLAU\, Jungbuschstr. 14\, Mannheim\, 68159
CATEGORIES:Garage Punk
ATTACH;FMTTYPE=image/jpeg:https://blau-jungbusch.rocks/wp-content/uploads/2026/04/ty.jpg
END:VEVENT
END:VCALENDAR