BEGIN:VCALENDAR
VERSION:2.0
PRODID:-//BLAU - Jungbusch - Mannheim - ECPv6.15.11//NONSGML v1.0//EN
CALSCALE:GREGORIAN
METHOD:PUBLISH
X-ORIGINAL-URL:https://blau-jungbusch.rocks
X-WR-CALDESC:Veranstaltungen für BLAU - Jungbusch - Mannheim
REFRESH-INTERVAL;VALUE=DURATION:PT1H
X-Robots-Tag:noindex
X-PUBLISHED-TTL:PT1H
BEGIN:VTIMEZONE
TZID:Europe/Berlin
BEGIN:DAYLIGHT
TZOFFSETFROM:+0100
TZOFFSETTO:+0200
TZNAME:CEST
DTSTART:20250330T010000
END:DAYLIGHT
BEGIN:STANDARD
TZOFFSETFROM:+0200
TZOFFSETTO:+0100
TZNAME:CET
DTSTART:20251026T010000
END:STANDARD
BEGIN:DAYLIGHT
TZOFFSETFROM:+0100
TZOFFSETTO:+0200
TZNAME:CEST
DTSTART:20260329T010000
END:DAYLIGHT
BEGIN:STANDARD
TZOFFSETFROM:+0200
TZOFFSETTO:+0100
TZNAME:CET
DTSTART:20261025T010000
END:STANDARD
BEGIN:DAYLIGHT
TZOFFSETFROM:+0100
TZOFFSETTO:+0200
TZNAME:CEST
DTSTART:20270328T010000
END:DAYLIGHT
BEGIN:STANDARD
TZOFFSETFROM:+0200
TZOFFSETTO:+0100
TZNAME:CET
DTSTART:20271031T010000
END:STANDARD
END:VTIMEZONE
BEGIN:VEVENT
DTSTART;TZID=Europe/Berlin:20260205T190000
DTEND;TZID=Europe/Berlin:20260205T190000
DTSTAMP:20260419T204428
CREATED:20260121T205313Z
LAST-MODIFIED:20260121T214758Z
UID:10000079-1770318000-1770318000@blau-jungbusch.rocks
SUMMARY:IG Pop Thekenchor
DESCRIPTION:Der Mannheimer Thekenchor – mit David Julian Kirchner\, Begleit-Musikern und allen\, die Mitsingen wollen.
URL:https://blau-jungbusch.rocks/event/ig-pop-thekenchor-3
LOCATION:BLAU\, Jungbuschstr. 14\, Mannheim\, 68159
CATEGORIES:Chor
ATTACH;FMTTYPE=image/jpeg:https://blau-jungbusch.rocks/wp-content/uploads/2026/01/ig-pop-thekenchor.jpg
END:VEVENT
BEGIN:VEVENT
DTSTART;TZID=Europe/Berlin:20260206T200000
DTEND;TZID=Europe/Berlin:20260206T200000
DTSTAMP:20260419T204428
CREATED:20260121T211147Z
LAST-MODIFIED:20260121T211147Z
UID:10000082-1770408000-1770408000@blau-jungbusch.rocks
SUMMARY:K-Punkt DJ Kolja
DESCRIPTION:Mixed Genres Disco! \n#eintrittfrei #dj #dancefloor #tanzfläche #glücksritter #juz #kicker #blaujungbusch #keinbierfürnazis
URL:https://blau-jungbusch.rocks/event/k-punkt-dj-kolja-3
LOCATION:BLAU\, Jungbuschstr. 14\, Mannheim\, 68159
CATEGORIES:Disco,Goth,Indie,Punk,Underground
ATTACH;FMTTYPE=image/jpeg:https://blau-jungbusch.rocks/wp-content/uploads/2025/09/k-punkt-2025-10-20-2025-12-12.jpg
END:VEVENT
BEGIN:VEVENT
DTSTART;TZID=Europe/Berlin:20260207T200000
DTEND;TZID=Europe/Berlin:20260207T200000
DTSTAMP:20260419T204428
CREATED:20260121T211534Z
LAST-MODIFIED:20260121T211534Z
UID:10000083-1770494400-1770494400@blau-jungbusch.rocks
SUMMARY:Shake It Wild!
DESCRIPTION:Stromgitarrenmusik von der Konserve. SIW immer am Puls der Bierflasche\, einfach mega \nDJs ab ca. 22 Uhr \nEintritt frei!
URL:https://blau-jungbusch.rocks/event/shake-it-wild-2
LOCATION:BLAU\, Jungbuschstr. 14\, Mannheim\, 68159
CATEGORIES:Alternative,Punkrock,Rock,Surf,Swinging,Underground,Wave
ATTACH;FMTTYPE=image/jpeg:https://blau-jungbusch.rocks/wp-content/uploads/2025/04/Shake-it-wild.jpg
END:VEVENT
BEGIN:VEVENT
DTSTART;TZID=Europe/Berlin:20260213T200000
DTEND;TZID=Europe/Berlin:20260213T200000
DTSTAMP:20260419T204428
CREATED:20260121T212829Z
LAST-MODIFIED:20260121T212829Z
UID:10000084-1771012800-1771012800@blau-jungbusch.rocks
SUMMARY:Jules B-Day Bash - DJs Kalkbrenner
DESCRIPTION:Uns‘ JULS lässt so richtich krachen! \nFrieder und Stephan Kalkbrenner legen auf. \nSie werden italohouse Kombiniert mit alltime classics aus Kalkis privater Plattensammlung spielen. Das Beste aus der #Peer23 Wundertüte eben! \nÖffentliche Veranstaltung.\nEintritt frei!\nDJs ab ca. 21.30
URL:https://blau-jungbusch.rocks/event/jules-b-day-bash-djs-kalkbrenner
LOCATION:BLAU\, Jungbuschstr. 14\, Mannheim\, 68159
CATEGORIES:House
ATTACH;FMTTYPE=image/jpeg:https://blau-jungbusch.rocks/wp-content/uploads/2026/01/jules-bday-bash.jpg
END:VEVENT
BEGIN:VEVENT
DTSTART;TZID=Europe/Berlin:20260220T200000
DTEND;TZID=Europe/Berlin:20260220T200000
DTSTAMP:20260419T204428
CREATED:20260216T225455Z
LAST-MODIFIED:20260216T225455Z
UID:10000086-1771617600-1771617600@blau-jungbusch.rocks
SUMMARY:Super Sushi Tokio - Punk live!
DESCRIPTION:Das Zwei-Mensch-Projekt Super Sushi Tokio klingt nach 90er Post Hardcore gemischt mit Breakbeats und deutschem Punk. Laut und tanzbar! \nhttps://supersushitokio.bandcamp.com/ \nhttps://youtube.com/channel/UCxBkQ2Vq-CWjv6h-d069uJQ \n22.02.26\, Doors ab 20:00\, Live Act ab ca. 21:00\nEintritt auf Spendenbasis. 10-15 € \nAftershow Party ab 22:30 Uht mit DJ Whapadang\nEintritt frei! \n#kneipe #bar #club #tischkicker #DJ #dancefoor #blaujungbusch #eintrittfrei #keinbierfürnazis #supersushitokio #punk #deutschpunk
URL:https://blau-jungbusch.rocks/event/super-sushi-tokio-punk-live
LOCATION:BLAU\, Jungbuschstr. 14\, Mannheim\, 68159
CATEGORIES:Deutschpunk,Punk
ATTACH;FMTTYPE=image/jpeg:https://blau-jungbusch.rocks/wp-content/uploads/2026/02/super-sushi-tokio.jpg
END:VEVENT
BEGIN:VEVENT
DTSTART;TZID=Europe/Berlin:20260221T210000
DTEND;TZID=Europe/Berlin:20260221T210000
DTSTAMP:20260419T204428
CREATED:20260216T225830Z
LAST-MODIFIED:20260216T225830Z
UID:10000087-1771707600-1771707600@blau-jungbusch.rocks
SUMMARY:STE-JE-RO & DJ Martin Danger Rank - 60ies Trash vs Swinging 60iers
DESCRIPTION:Wilde fuzzy sixties Klangperlen von DJ STEFAN STE-JE-RO im Battle mit dem swinging 6T’s & 7T’s rave up Universum von DJ MARTIN DANGER RANK (Club Separee\, Berlin). \nDJs ab ca. 21:00 Uhr\nEintritt frei!
URL:https://blau-jungbusch.rocks/event/ste-je-ro-dj-martin-danger-rank-60ies-trash-vs-swinging-60iers
LOCATION:BLAU\, Jungbuschstr. 14\, Mannheim\, 68159
CATEGORIES:60s,70s,Garage Punk,garage rock,Swinging
ATTACH;FMTTYPE=image/jpeg:https://blau-jungbusch.rocks/wp-content/uploads/2026/02/ste-re-jo.jpg
END:VEVENT
BEGIN:VEVENT
DTSTART;TZID=Europe/Berlin:20260227T200000
DTEND;TZID=Europe/Berlin:20260227T200000
DTSTAMP:20260419T204428
CREATED:20260216T230310Z
LAST-MODIFIED:20260216T230310Z
UID:10000088-1772222400-1772222400@blau-jungbusch.rocks
SUMMARY:Punkakademie: Konzert-Alarm - live!
DESCRIPTION:Nach Monaten derben Geklöppels und Gitarren-Zerschroten im stillen Kämmerlein müssen sie endlich raus ins Nachtleben\, auf die Bretter\, zu den Fans – die Erstis der PUNKAKADEMIE MANNHEIM. Nun präsentieren sie neue handgemachte Punkmugge in vielfältigen FLINTA-Bandkonstellationen. PRAXIS\, PRAXIS\, PRAXIS. Das\, was andere Musikhochschulen Zwischenkonzert nennen\, heißt hier Feldversuch! \nAftershow\nab ca. 22:00 Uhr\nmit DJ Affendaddy \nMannheims dienstältester DJ legt nach der Show Punk-Klassiker er ersten Jahre auf. Und vielleicht ein wenig Proto- und Post-Punk. \n#kneipe #bar #club #tischkicker #DJ #dancefoor #blaujungbusch #eintrittfrei #keinbierfürnazis #punk
URL:https://blau-jungbusch.rocks/event/punkakademie-konzert-alarm-live
LOCATION:BLAU\, Jungbuschstr. 14\, Mannheim\, 68159
CATEGORIES:Deutschpunk,Punk,Punkrock
ATTACH;FMTTYPE=image/jpeg:https://blau-jungbusch.rocks/wp-content/uploads/2026/02/punkakademie.jpg
END:VEVENT
BEGIN:VEVENT
DTSTART;TZID=Europe/Berlin:20260228T200000
DTEND;TZID=Europe/Berlin:20260228T200000
DTSTAMP:20260419T204428
CREATED:20260216T230433Z
LAST-MODIFIED:20260220T081733Z
UID:10000089-1772308800-1772308800@blau-jungbusch.rocks
SUMMARY:Boogaloo Klub – Funky Soul & Swinging Sixties
DESCRIPTION:Treibende Beats\, fauchende Orgeln\, funky Gitarren und Gesangslinien\, die an die Seele rühren – das ist der Boogaloo Klub. Die besten Tracks aus den Untiefen der 50er\, 60er und 70er Jahre. \nMit der unglaublichen Mischung aus Deep Funk\, Rare Soul\, Latin Boogaloo\, Freaky Beat\, Psychedelic Rock\, Dirty Rock’n’Roll\, Surf & Hammond Sounds\, Wild Exotica\, Afro Breaks & Maximum Rhythm’n’Blues bringen wir nicht nur Baströckchen und Minikleidchen zum Schwingen. \nEintritt frei\, los geht’s ab etwa 21:00 Uhr
URL:https://blau-jungbusch.rocks/event/boogaloo-klub-funky-soul-swinging-sixties-5
LOCATION:BLAU\, Jungbuschstr. 14\, Mannheim\, 68159
CATEGORIES:50s,60s,70s,Funky Soul,Swinging
ATTACH;FMTTYPE=image/png:https://blau-jungbusch.rocks/wp-content/uploads/2025/06/boogaloo-klub.png
END:VEVENT
END:VCALENDAR