BEGIN:VCALENDAR
VERSION:2.0
PRODID:-//BLAU - Jungbusch - Mannheim - ECPv6.15.11//NONSGML v1.0//EN
CALSCALE:GREGORIAN
METHOD:PUBLISH
X-WR-CALNAME:BLAU - Jungbusch - Mannheim
X-ORIGINAL-URL:https://blau-jungbusch.rocks
X-WR-CALDESC:Veranstaltungen für BLAU - Jungbusch - Mannheim
REFRESH-INTERVAL;VALUE=DURATION:PT1H
X-Robots-Tag:noindex
X-PUBLISHED-TTL:PT1H
BEGIN:VTIMEZONE
TZID:Europe/Berlin
BEGIN:DAYLIGHT
TZOFFSETFROM:+0100
TZOFFSETTO:+0200
TZNAME:CEST
DTSTART:20240331T010000
END:DAYLIGHT
BEGIN:STANDARD
TZOFFSETFROM:+0200
TZOFFSETTO:+0100
TZNAME:CET
DTSTART:20241027T010000
END:STANDARD
BEGIN:DAYLIGHT
TZOFFSETFROM:+0100
TZOFFSETTO:+0200
TZNAME:CEST
DTSTART:20250330T010000
END:DAYLIGHT
BEGIN:STANDARD
TZOFFSETFROM:+0200
TZOFFSETTO:+0100
TZNAME:CET
DTSTART:20251026T010000
END:STANDARD
BEGIN:DAYLIGHT
TZOFFSETFROM:+0100
TZOFFSETTO:+0200
TZNAME:CEST
DTSTART:20260329T010000
END:DAYLIGHT
BEGIN:STANDARD
TZOFFSETFROM:+0200
TZOFFSETTO:+0100
TZNAME:CET
DTSTART:20261025T010000
END:STANDARD
END:VTIMEZONE
BEGIN:VEVENT
DTSTART;TZID=Europe/Berlin:20250704T200000
DTEND;TZID=Europe/Berlin:20250704T200000
DTSTAMP:20260420T084820
CREATED:20250615T222255Z
LAST-MODIFIED:20250615T222433Z
UID:10000030-1751659200-1751659200@blau-jungbusch.rocks
SUMMARY:Stand & Deliver! 80s Underground\, Wave & Pop
DESCRIPTION:Best Of 80s Wave\, Underground & Pop mit Dj Mischa K. \nMischa spielt sich quer durch seine (und deine) Lieblingssongs der 80er Jahre. Und da wir im Blau sind\, wird’s ein bisserl mehr Underground\, Indie und Wave aus den 80ern auf die Ohren geben. \nHier hört ihr die Hits von Bands wie Joy Division\, The Cure\, The Smiths\, The Go-Betweens oder Siouxsie And The Banshees – aber auch weniger bekannte Underground-Perlen der 80er Jahre. \nLos geht’s ab etwa 21 Uhr\, der Eintritt ist frei.
URL:https://blau-jungbusch.rocks/event/stand-deliver-80s-underground-wave-pop-2
CATEGORIES:80s,pop,Underground,Wave
ATTACH;FMTTYPE=image/jpeg:https://blau-jungbusch.rocks/wp-content/uploads/2025/04/Stand-and-deliver.jpg
END:VEVENT
BEGIN:VEVENT
DTSTART;TZID=Europe/Berlin:20250705T200000
DTEND;TZID=Europe/Berlin:20250705T230000
DTSTAMP:20260420T084820
CREATED:20250425T093216Z
LAST-MODIFIED:20251009T093150Z
UID:10000008-1751745600-1751756400@blau-jungbusch.rocks
SUMMARY:Der Retronaut - Crossover\, Alternative & Punk
DESCRIPTION:Crossover\, Alternative\, Indie\, Punk\, usw. mit Fokus auf Gitarrenmusik der 90er und frühen 2000er. \nEin weiteres Projekt unter dem Namen „Der Retronaut“ ist ein DJ aus Mannheim\, der sich auf elektronische Musik spezialisiert hat. Sein Stil umfasst Genres wie EBM\, Electroclash\, Nu Rave\, Indietronix\, Gothic und Techno. Er ist regelmäßig in Clubs und auf Festivals aktiv\, darunter Veranstaltungen wie „Super Schwarzes Mannheim“ und das „Wave Gotik Treffen“. Seine Sets sind für ihre tanzbare Mischung aus dunklen elektronischen Klängen bekannt.
URL:https://blau-jungbusch.rocks/event/take-the-power-back-crossover-alternative-punk-mit-der-retronaut
LOCATION:BLAU\, Jungbuschstr. 14\, Mannheim\, 68159
CATEGORIES:Alternative,Crossover,Punk
ATTACH;FMTTYPE=image/jpeg:https://blau-jungbusch.rocks/wp-content/uploads/2025/04/Take-the-power-back.jpg
END:VEVENT
BEGIN:VEVENT
DTSTART;TZID=Europe/Berlin:20250725T200000
DTEND;TZID=Europe/Berlin:20250725T233000
DTSTAMP:20260420T084820
CREATED:20250425T091752Z
LAST-MODIFIED:20251009T093145Z
UID:10000007-1753473600-1753486200@blau-jungbusch.rocks
SUMMARY:Alles auf Rausch - Deutschpunk
DESCRIPTION:Alles auf Rausch! – Die neue Deutschpunkparty im Blau. \nDer Retronaut und sein Praktikant verwöhnen euch mit den größten Deutschpunkhits der 80er\, 90er und von heute. \nSchnürt die Stiefel\, legt die Nietenarmbänder an\, investiert euer geschnorrtes Kleingeld in Bier und feiert mit uns bis der Herr uns Ruhe verordnet. Von Slime\, Hass und Toxoplasma über Terrorgruppe\, Chaos Z und But Alive zu Kotzreiz\, Feine Sahne Fischfilet und Team Scheisse. \nBeginn DJing ca. ab 22 Uhr. Eintritt frei!
URL:https://blau-jungbusch.rocks/event/alles-auf-rausch-deutschpunk
LOCATION:BLAU\, Jungbuschstr. 14\, Mannheim\, 68159
CATEGORIES:Deutschpunk,Punk,Punkrock
ATTACH;FMTTYPE=image/jpeg:https://blau-jungbusch.rocks/wp-content/uploads/2025/04/Alles-auf-Rausch.jpg
END:VEVENT
END:VCALENDAR