BEGIN:VCALENDAR
VERSION:2.0
PRODID:-//BLAU - Jungbusch - Mannheim - ECPv6.15.11//NONSGML v1.0//EN
CALSCALE:GREGORIAN
METHOD:PUBLISH
X-WR-CALNAME:BLAU - Jungbusch - Mannheim
X-ORIGINAL-URL:https://blau-jungbusch.rocks
X-WR-CALDESC:Veranstaltungen für BLAU - Jungbusch - Mannheim
REFRESH-INTERVAL;VALUE=DURATION:PT1H
X-Robots-Tag:noindex
X-PUBLISHED-TTL:PT1H
BEGIN:VTIMEZONE
TZID:Europe/Berlin
BEGIN:DAYLIGHT
TZOFFSETFROM:+0100
TZOFFSETTO:+0200
TZNAME:CEST
DTSTART:20240331T010000
END:DAYLIGHT
BEGIN:STANDARD
TZOFFSETFROM:+0200
TZOFFSETTO:+0100
TZNAME:CET
DTSTART:20241027T010000
END:STANDARD
BEGIN:DAYLIGHT
TZOFFSETFROM:+0100
TZOFFSETTO:+0200
TZNAME:CEST
DTSTART:20250330T010000
END:DAYLIGHT
BEGIN:STANDARD
TZOFFSETFROM:+0200
TZOFFSETTO:+0100
TZNAME:CET
DTSTART:20251026T010000
END:STANDARD
BEGIN:DAYLIGHT
TZOFFSETFROM:+0100
TZOFFSETTO:+0200
TZNAME:CEST
DTSTART:20260329T010000
END:DAYLIGHT
BEGIN:STANDARD
TZOFFSETFROM:+0200
TZOFFSETTO:+0100
TZNAME:CET
DTSTART:20261025T010000
END:STANDARD
END:VTIMEZONE
BEGIN:VEVENT
DTSTART;TZID=Europe/Berlin:20250618T210000
DTEND;TZID=Europe/Berlin:20250619T020000
DTSTAMP:20260420T103808
CREATED:20250615T214914Z
LAST-MODIFIED:20250615T222002Z
UID:10000025-1750280400-1750298400@blau-jungbusch.rocks
SUMMARY:La Nuit Sombre - Postpunk\, Dark Wave & More
DESCRIPTION:Es wird laut und es wird dunkel im Mannheimer Jungbusch– wir laden heute alle schwarze Seelen ins Blau ein. \nEuch erwartet großartige Musik mit Batcave-Vibe: Trag deine Netzstrümpfe zerrissen\, werf dich in dunkles Leder\, schnüre die Korsage eng und zieh den schwarzen Kajal nach! \nDJ Mischa spielt Postpunk-\, Dark Wave-\, Cold Gaze-\, Gothrock- und Dark Indie-Sounds von gestern bis heute.
URL:https://blau-jungbusch.rocks/event/la-nuit-sombre-postpunk-dark-wave-more
CATEGORIES:Postpunk
END:VEVENT
BEGIN:VEVENT
DTSTART;TZID=Europe/Berlin:20250619T210000
DTEND;TZID=Europe/Berlin:20250620T020000
DTSTAMP:20260420T103808
CREATED:20250615T215205Z
LAST-MODIFIED:20250615T223219Z
UID:10000026-1750366800-1750384800@blau-jungbusch.rocks
SUMMARY:DJ Pony Coldhand - Blues\, Country\, Hillbilly\, Folk
DESCRIPTION:DJ Pony Coldhand beglückt uns mit ihrer wilden Mischung: Blues\, Country\, Hillbilly\, Folk u.v.m.
URL:https://blau-jungbusch.rocks/event/dj-pony-coldhand-blues-country-hillbilly-folk
CATEGORIES:Blues,Country,Folk,Hillbilly
END:VEVENT
BEGIN:VEVENT
DTSTART;TZID=Europe/Berlin:20250620T210000
DTEND;TZID=Europe/Berlin:20250621T040000
DTSTAMP:20260420T103808
CREATED:20250615T215451Z
LAST-MODIFIED:20250615T221820Z
UID:10000027-1750453200-1750478400@blau-jungbusch.rocks
SUMMARY:Boogaloo Klub - Funky Soul & Swinging Sixties
DESCRIPTION:Treibende Beats\, fauchende Orgeln\, funky Gitarren und Gesangslinien\, die an die Seele rühren – das ist der Boogaloo Klub. Die besten Tracks aus den Untiefen der 50er\, 60er und 70er Jahre. \nMit der unglaublichen Mischung aus Deep Funk\, Rare Soul\, Latin Boogaloo\, Freaky Beat\, Psychedelic Rock\, Dirty Rock’n’Roll\, Surf & Hammond Sounds\, Wild Exotica\, Afro Breaks & Maximum Rhythm’n’Blues bringen wir nicht nur Baströckchen und Minikleidchen zum Schwingen. \nEintritt frei\, los geht’s ab etwa 21 Uhr
URL:https://blau-jungbusch.rocks/event/boogaloo-klub-funky-soul-swinging-sixties
CATEGORIES:Funky Soul
ATTACH;FMTTYPE=image/png:https://blau-jungbusch.rocks/wp-content/uploads/2025/06/boogaloo-klub.png
END:VEVENT
BEGIN:VEVENT
DTSTART;TZID=Europe/Berlin:20250621T190000
DTEND;TZID=Europe/Berlin:20250622T040000
DTSTAMP:20260420T103808
CREATED:20250615T220005Z
LAST-MODIFIED:20250615T222757Z
UID:10000028-1750532400-1750564800@blau-jungbusch.rocks
SUMMARY:Bye Bye Hötsch! - Trauerfeier mit Bier\, Bildern und Musik
DESCRIPTION:Wir nehmen Abschied von Hötsch. Dem unvergesslichen Barkeeper\, Künstler\, Moderator und DJ. Einem Eckfeiler des Blau. \n \nZur Einstimmung des Abends zeigt Erik Castensen einen Best of Hötsch Zusammenschnitt aus verschiedenen Superart TV Filmen. \nMusikalisch untermalt wird der Abend von Saschberto und Götzilla mit Hötsch-Kompatiblen Songs. \nIn Abstimmung mit der Familie verkaufen wir einige Werke aus dem Nachlass. Der Erlös wird für Beerdigungskosten verwandt. Ein Teil der Erlöse soll auch in Freibier für die Trauergemeinde fließen. Darauf bestehen die Hinterbliebenen. \nEs gibt auch noch mal Hötschikaner\, das rote Zeug\, das zwei mal brennt\, Musik\, die ihm gefallen hätte und Gespräche mit Leuten\, die ihre ganz eigenen Anekdoten mit ihm haben. \nBitte sendet uns Fotos von Hötsch via Instagram oder Facebook. Wir würden gerne an dem Abend eine „Diashow“ an unserer Leinwand laufen lassen. Auch Widmungen\, kurze Erinnerungen oder Zitate im Bildformat passen da gut dazu.
URL:https://blau-jungbusch.rocks/event/bye-bye-hoetsch-trauerfeier-mit-bier-bildern-und-musik
ATTACH;FMTTYPE=image/png:https://blau-jungbusch.rocks/wp-content/uploads/2025/06/bye-bye-hoetsch-2025-06-21.png
END:VEVENT
BEGIN:VEVENT
DTSTART;TZID=Europe/Berlin:20250625T210000
DTEND;TZID=Europe/Berlin:20250625T233000
DTSTAMP:20260420T103808
CREATED:20250415T131328Z
LAST-MODIFIED:20251009T093210Z
UID:10000001-1750885200-1750894200@blau-jungbusch.rocks
SUMMARY:Gringo Star (USA)
DESCRIPTION:Im letzten Jahrzehnt haben sich Gringo Star einen Namen als einer der wertvollsten Rock & Roll-Exporte Atlantas gemacht und tragen die Fackel für hazy\, psychedelischen Garage-Rock in einer Stadt\, die vor allem für ihre Beiträge zum Hip-Hop geschätzt wird. Gringo Star haben Welle um Welle von Buzz-Bands und Indie-Blog-Lieblingen überdauert und sich durch ständige Neuerfindung und eine beispiellose Arbeitsmoral ihren eigenen Karriereweg gebahnt und dabei eine loyale und begeisterte internationale Fangemeinde aufgebaut. \nMit ihrem achten Album schlagen Gringo Star eine scharfe Wendung ins Tiefromantische ein. Wer kann es der Band verdenken? Ist es in einer gespaltenen Welt nicht an der Zeit\, dass wir uns wieder der Liebe und den tiefen Emotionen zuwenden\, die uns verbinden? \n„Sweethearts“\, das zweite Album der Band nach COVID\, führt uns zurück in eine bessere Zeit\, einfacher und glücklicher\, obwohl es hier manchmal auch eine melancholische und traurige Bildsprache gibt. \nViele der Songs haben eine verträumte Qualität\, jedoch sind dies komplexe Songs\, die mit jedem Hören besser werden\, wenn die lyrischen und musikalischen Nuancen ins Bewusstsein sickern. \nGringo Star kommen zum vierten mal nach Mannheim\, wo sie bei Auftritten im Blau\, Alter und Volksbad viele Fans gewonnen haben. \n\nhttps://gringostar.net/\nhttps://gringostar.bandcamp.com/music\n\n \n  \n \nStart\nEinlass: 20:00 Uhr\nBeginn: 21:00 Uhr \nUnterstützungsbeitrag\nEuer Unterstützungsbeitrag ermöglicht es uns\, unsere Projekte weiterzuführen!\nWir empfehlen 15\,00 Euro – Doch es gilt: gib\, was Du kannst! Wir stellen keine Fragen.
URL:https://blau-jungbusch.rocks/event/gringo-star-usa-garage-rock
LOCATION:BLAU\, Jungbuschstr. 14\, Mannheim\, 68159
CATEGORIES:garage rock
ATTACH;FMTTYPE=image/jpeg:https://blau-jungbusch.rocks/wp-content/uploads/2025/04/gringo-star.jpg
ORGANIZER;CN="brandherd":MAILTO:bernhard@brandherd.org
END:VEVENT
BEGIN:VEVENT
DTSTART;TZID=Europe/Berlin:20250627T200000
DTEND;TZID=Europe/Berlin:20250627T230000
DTSTAMP:20260420T103809
CREATED:20250615T220210Z
LAST-MODIFIED:20251009T093204Z
UID:10000029-1751054400-1751065200@blau-jungbusch.rocks
SUMMARY:Kopf.Herz.Beine - Indie mit DJ Jan Z
DESCRIPTION:Punk Indie Alternative \nmit DJ Jan Z
URL:https://blau-jungbusch.rocks/event/kopf-herz-beine-indie-mit-dj-jan-z
LOCATION:BLAU\, Jungbuschstr. 14\, Mannheim\, 68159
CATEGORIES:Alternative,Indie,Punk
END:VEVENT
BEGIN:VEVENT
DTSTART;TZID=Europe/Berlin:20250628T200000
DTEND;TZID=Europe/Berlin:20250628T230000
DTSTAMP:20260420T103809
CREATED:20250425T093618Z
LAST-MODIFIED:20250615T222051Z
UID:10000009-1751140800-1751151600@blau-jungbusch.rocks
SUMMARY:DJ Ste-Je-Ro! Wild and crazy into the summer!
DESCRIPTION:Sixties Underground und mehr am musikalischen Blausstrand des Lebens.\nUnd das ganze Deluxe! \nGeöffnet ab 20 Uhr\, DJ Party ab ca. 21 Uhr
URL:https://blau-jungbusch.rocks/event/ste-je-ro-wild-and-crazy-into-the-summer
LOCATION:BLAU\, Jungbuschstr. 14\, Mannheim\, 68159
CATEGORIES:60s,Garage Punk,garage rock
ATTACH;FMTTYPE=image/jpeg:https://blau-jungbusch.rocks/wp-content/uploads/2025/04/Wild-and-crazy-into-the-summer.jpg
END:VEVENT
END:VCALENDAR